BEGIN:VCALENDAR
VERSION:2.0
PRODID:-//Amélie Dodinet - ECPv6.15.11//NONSGML v1.0//EN
CALSCALE:GREGORIAN
METHOD:PUBLISH
X-WR-CALNAME:Amélie Dodinet
X-ORIGINAL-URL:https://amelie-dodinet.com
X-WR-CALDESC:Évènements pour Amélie Dodinet
REFRESH-INTERVAL;VALUE=DURATION:PT1H
X-Robots-Tag:noindex
X-PUBLISHED-TTL:PT1H
BEGIN:VTIMEZONE
TZID:Europe/Paris
BEGIN:DAYLIGHT
TZOFFSETFROM:+0100
TZOFFSETTO:+0200
TZNAME:CEST
DTSTART:20250330T010000
END:DAYLIGHT
BEGIN:STANDARD
TZOFFSETFROM:+0200
TZOFFSETTO:+0100
TZNAME:CET
DTSTART:20251026T010000
END:STANDARD
BEGIN:DAYLIGHT
TZOFFSETFROM:+0100
TZOFFSETTO:+0200
TZNAME:CEST
DTSTART:20260329T010000
END:DAYLIGHT
BEGIN:STANDARD
TZOFFSETFROM:+0200
TZOFFSETTO:+0100
TZNAME:CET
DTSTART:20261025T010000
END:STANDARD
BEGIN:DAYLIGHT
TZOFFSETFROM:+0100
TZOFFSETTO:+0200
TZNAME:CEST
DTSTART:20270328T010000
END:DAYLIGHT
BEGIN:STANDARD
TZOFFSETFROM:+0200
TZOFFSETTO:+0100
TZNAME:CET
DTSTART:20271031T010000
END:STANDARD
END:VTIMEZONE
BEGIN:VEVENT
DTSTART;TZID=Europe/Paris:20260207T143000
DTEND;TZID=Europe/Paris:20260207T170000
DTSTAMP:20260423T193422
CREATED:20260124T122507Z
LAST-MODIFIED:20260124T160717Z
UID:3468-1770474600-1770483600@amelie-dodinet.com
SUMMARY:Cérémonie Cacao & cercle de chants- 7 FEVRIER 2026 - Clara (66)
DESCRIPTION:Cérémonie du Cacao & Cercle de chants sacrés\n\nAvec Amélie Dodinet\, praticienne chamanique\, chanteuse et sonothérapeute.\nQUAND ? samedi 07/02/2026 de 14h30 à 17H00 heure françaiseOÙ ? A Clara-Villerach\, à 10 min de Prades et 40 min de Perpignan ! Dans la belle salle à l’étageCOMBIEN ? 40€COMMENT S’INSCRIRE ? par mail : amelie.dodinet@gmail.com ou sms : 06 18 54 35 07PLACES LIMITEESLes inscriptions via facebook ne suffisent pas.\n\nCe cercle est ouvert à tous\, que vous aimiez boire le cacao ou non\, et que vous chantiez ou non \n\nPlus d’infos sur le cacao sacré :\n“Nourriture des Dieux”\, tel est le nom donné au cacao par les cultures indigènes d’Amérique centrale\, ancestrales et contemporaines.Elles l’utilisaient et l’utilisent encore comme sacrement lors de cérémonies chamaniques.Le cacao cru\, servi sous forme de boisson et utilisé en cérémonie\, facilite la création en nous d’un espace de calme et de sérénité\, de concentration\, de connexion et d’unité.Il favorise l’ouverture de notre cœur à la sensibilité et nous reconnecte à notre âme d’enfant.Il nous invite en douceur à approfondir notre relation à nous-même\, à nos sentiments et nos émotions\, parfois refoulés.Il nous accompagne dans nos élans personnels de transformation et d’évolution.Il nous permet de rendre grâce pour ce que nous avons\, pour ce que nous sommes et pour ce dont nous avons besoin.Il est la clé qui ouvre la porte de notre intériorité\, à nous de décider si nous entrons ou si nous préférons rester sur le seuil.\n\nDéroulement de la cérémonie\nA l’ouverture de la cérémonie nous poserons une intention individuelle\, celle-ci infusera pendant la séance et en sera\, pour chacun\, le fil conducteur.Ensuite nous boirons ensemble le cacao sacré et nous invoquerons l’esprit du cacao pour que celui-ci se joigne à nous au long de la cérémonie.Puis nous chanterons différents chants sacrés venus des Amériques et d’ailleurs\, mantras\, accompagnés par le tambour\, nos voix et nos coeurs.La cérémonie sera ponctuée de moments d’introspection et de partage.Quand finalement nous clôturerons la cérémonie\, ce moment privilégié de connexion à nous-même aura permis une libération de nos entraves\, une compréhension de qui nous sommes\, et une inspiration nouvelle pour avancer vers nos rêves et nos objectifs.Au plaisir de partager ce moment et de chanter à vos côtés !AmélieEn savoir plus sur Amélie :https://amelie-dodinet.com
URL:https://amelie-dodinet.com/events/ceremonie-cacao-cercle-de-chants-fevrier-2025-clara-66/
LOCATION:Clara-Villerach\, 2 RAMPE BELLEVUE\, CLARA VILLERACH\, 66500\, France
CATEGORIES:Atelier,Cérémonie,cérémonie cacao,chamanisme
ATTACH;FMTTYPE=image/png:https://amelie-dodinet.com/wp-content/uploads/2025/01/ceremonie-cacao-chants.png
ORGANIZER;CN="Am%C3%A9lie DODINET":MAILTO:amelie.dodinet@gmail.com
END:VEVENT
END:VCALENDAR