BEGIN:VCALENDAR
VERSION:2.0
PRODID:-//Amélie Dodinet - ECPv6.15.11//NONSGML v1.0//EN
CALSCALE:GREGORIAN
METHOD:PUBLISH
X-WR-CALNAME:Amélie Dodinet
X-ORIGINAL-URL:https://amelie-dodinet.com
X-WR-CALDESC:Évènements pour Amélie Dodinet
REFRESH-INTERVAL;VALUE=DURATION:PT1H
X-Robots-Tag:noindex
X-PUBLISHED-TTL:PT1H
BEGIN:VTIMEZONE
TZID:Europe/Paris
BEGIN:DAYLIGHT
TZOFFSETFROM:+0100
TZOFFSETTO:+0200
TZNAME:CEST
DTSTART:20230326T010000
END:DAYLIGHT
BEGIN:STANDARD
TZOFFSETFROM:+0200
TZOFFSETTO:+0100
TZNAME:CET
DTSTART:20231029T010000
END:STANDARD
BEGIN:DAYLIGHT
TZOFFSETFROM:+0100
TZOFFSETTO:+0200
TZNAME:CEST
DTSTART:20240331T010000
END:DAYLIGHT
BEGIN:STANDARD
TZOFFSETFROM:+0200
TZOFFSETTO:+0100
TZNAME:CET
DTSTART:20241027T010000
END:STANDARD
BEGIN:DAYLIGHT
TZOFFSETFROM:+0100
TZOFFSETTO:+0200
TZNAME:CEST
DTSTART:20250330T010000
END:DAYLIGHT
BEGIN:STANDARD
TZOFFSETFROM:+0200
TZOFFSETTO:+0100
TZNAME:CET
DTSTART:20251026T010000
END:STANDARD
END:VTIMEZONE
BEGIN:VEVENT
DTSTART;TZID=Europe/Paris:20240615T080000
DTEND;TZID=Europe/Paris:20240616T190000
DTSTAMP:20260425T172516
CREATED:20240411T162944Z
LAST-MODIFIED:20240411T163314Z
UID:3320-1718438400-1718564400@amelie-dodinet.com
SUMMARY:Festival Namaste - Aigues-Mortes (30) du 14 au 16 juin
DESCRIPTION:Festival Namasté cérémonie cacao Amélie DODINET\nJe suis très heureuse de participer à l’édition #6 du Festival Namaste à Aigues-Mortes\, avec 2 cérémonies du cacao et cercles de chants sacrés !\n\n\nCa se passe les 14\, 15\, 16 juin 2024 avec 2 journées et 2 soirées très riches en relaxation\, joie\, magie et partage. 23 intervenants et autant de disciplines originales\, ressourçantes et enrichissantes. 2 journées pour te retrouver\, te connecter\, partager\, découvrir\, rire. Le tout dans un environnement privilégié en pleine nature.\n\n\nPour réserver ta place : https://www.helloasso.com/associations/namasteop/evenements/festival-namaste-6.helloasso.com/\n\n\n\n\nL’atelier : Cérémonie du cacao & cercle de chants sacrés (samedi et dimanche après-midi)\n\n\n\n\n“Nourriture des Dieux”\, tel est le nom donné au cacao par les cultures indigènes d’Amérique centrale\, ancestrales et contemporaines.\n\n\nLe cacao cru\, servi sous forme de boisson et utilisé en cérémonie\, facilite la création en nous d’un espace de calme et de sérénité\, de concentration\, de connexion et d’unité. Il favorise l’ouverture de notre cœur à la sensibilité et nous reconnecte à notre âme d’enfant.\nA l’ouverture de la cérémonie nous poserons une intention individuelle\, celle-ci infusera pendant la séance et en sera\, pour chacun\, le fil conducteur.\n\n\nEnsuite nous boirons ensemble le cacao sacré et nous invoquerons l’esprit du cacao pour que celui-ci se joigne à nous au long de la cérémonie.\n\n\nCelle-ci sera accompagnée d’invitations à revenir à soi\, de chants sacrés venus des Amériques et d’ailleurs\, de mantras\, ainsi que de moments d’introspection et de partage. Ma voix et mon tambour seront accompagnés par le chant et la guitare de Julien pour apporter un équilibre masculin/féminin à cette cérémonie.\n\n\n\nQui suis-je ?\n\n\nJe suis Amélie\, passionnée par les voyages tant dans la matière que dans l’invisible\, le chamanisme\, le chant\, la musique inspirée et par l’accompagnement des autres dans leur épanouissement personnel.\nJe suis thérapeute depuis plus de 10 ans\, et c’est en 2019 que je découvre la médecine du cacao\, véritable médecine du cœur\, qui vient compléter mon accompagnement chamanique !\n\n\nEn 2021\, j’ai la chance de passer 3 mois au Guatemala pour approfondir mon lien avec la nourriture des Dieux\, les cérémonies\, et bien sûr\, la musique\, le chant et la danse. Je suis ambassadrice France pour le cacao cérémoniel Lavalove.\n\n\n\nEn savoir plus sur moi :\nhttps://amelie-dodinet.com\n\n\n#cacaoceremony #cacao #mantras #singingcircle #occitanie #aiguesmortes #chamanisme #tambourchamanique #voix #ouvertureducoeur #theobroma #anandamide
URL:https://amelie-dodinet.com/events/festival-namaste-aigues-mortes-30-du-14-au-16-juin/
LOCATION:Salle Namaste Op – Aigues Mortes\, Chemin de trouchaud\, Aigues-Mortes\, 30220\, France
CATEGORIES:Atelier,Cérémonie,chamanisme,soins collectifs
ATTACH;FMTTYPE=image/jpeg:https://amelie-dodinet.com/wp-content/uploads/2024/04/431059250_1751413025352709_3237498170509040156_n.jpg
ORGANIZER;CN="Am%C3%A9lie DODINET":MAILTO:amelie.dodinet@gmail.com
END:VEVENT
END:VCALENDAR