BEGIN:VCALENDAR
VERSION:2.0
PRODID:-//Amélie Dodinet - ECPv6.15.11//NONSGML v1.0//EN
CALSCALE:GREGORIAN
METHOD:PUBLISH
X-WR-CALNAME:Amélie Dodinet
X-ORIGINAL-URL:https://amelie-dodinet.com
X-WR-CALDESC:Évènements pour Amélie Dodinet
REFRESH-INTERVAL;VALUE=DURATION:PT1H
X-Robots-Tag:noindex
X-PUBLISHED-TTL:PT1H
BEGIN:VTIMEZONE
TZID:Europe/Paris
BEGIN:DAYLIGHT
TZOFFSETFROM:+0100
TZOFFSETTO:+0200
TZNAME:CEST
DTSTART:20250330T010000
END:DAYLIGHT
BEGIN:STANDARD
TZOFFSETFROM:+0200
TZOFFSETTO:+0100
TZNAME:CET
DTSTART:20251026T010000
END:STANDARD
BEGIN:DAYLIGHT
TZOFFSETFROM:+0100
TZOFFSETTO:+0200
TZNAME:CEST
DTSTART:20260329T010000
END:DAYLIGHT
BEGIN:STANDARD
TZOFFSETFROM:+0200
TZOFFSETTO:+0100
TZNAME:CET
DTSTART:20261025T010000
END:STANDARD
BEGIN:DAYLIGHT
TZOFFSETFROM:+0100
TZOFFSETTO:+0200
TZNAME:CEST
DTSTART:20270328T010000
END:DAYLIGHT
BEGIN:STANDARD
TZOFFSETFROM:+0200
TZOFFSETTO:+0100
TZNAME:CET
DTSTART:20271031T010000
END:STANDARD
END:VTIMEZONE
BEGIN:VEVENT
DTSTART;TZID=Europe/Paris:20260320T200000
DTEND;TZID=Europe/Paris:20260322T150000
DTSTAMP:20260424T002829
CREATED:20251009T091950Z
LAST-MODIFIED:20251009T091950Z
UID:3516-1774036800-1774191600@amelie-dodinet.com
SUMMARY:MARS 2026 : RETRAITE CHAMANIQUE D’EQUINOXE DE PRINTEMPS- Domaine du Taillé
DESCRIPTION:RETRAITE CHAMANIQUE D’EQUINOXE – Domaine du Taillé \nRetraite sur 2 jours animée par Amélie Dodinet\, praticienne chamanique (formée notamment  FSS avec Laurent Huguelit) \nLa retraite est ouverte à tous les niveaux\, pas de pré-requis nécessaire. \nL’équinoxe est le moment où la durée du jour est égale à celle de la nuit. Étymologiquement\, le terme équinoxe provient du latin aequinoctium\, de aequus (égal) et nox\, noctis (nuit). \nL’équinoxe de printemps se situe aux alentours du 20/21 mars (chez les Mayas\, plutôt aux alentours du 23 mars).  \nC’est\, comme toujours\, un temps idéal pour suivre le mouvement de la nature. \nNotre intention sera d’équilibrer en nous le jour et la nuit\, d’équilibrer les éléments.Nous irons demander plus d’équilibre\, plus de santé et plus de paix dans notre quotidien. \nL’équinoxe de printemps représente également le temps des semences\, la fertilité et la fécondité de la terre. C’est donc un  temps approprié pour planter les graines de nouveaux projets\, pour accueillir le renouveau tout en laissant partir le superflu. \nLa retraite sera ponctuée de voyages chamaniques\, de cercles de paroles\, de danses et/ou de chants\, de rituels de libération et de cérémonies en lien avec les éléments et les intentions décrites plus haut. \nNous serons en formule résidentielle dans un beau Domaine dont les esprits de la nature permettent ce travail avec bienveillance. \nLIEU : Domaine du Taillé – 1150 chemin du Taillé\, 07200 Vesseaux – https://www.domainedutaille.com/ \nDATES : du vendredi 20 au dimanche 22 mars 2026 \nHORAIRES : le stage débutera le vendredi 20 mars  à 20H (accueil dès 17h) et se terminera le dimanche 22 mars aux alentours de 15/16H \nINSCRIPTION : pour vous inscrire\, il faut remplir le questionnaire suivant : \nhttps://forms.gle/e3Um2jjxy9DtVyD36 \n  \nAprès validation de votre participation\, vous recevrez les modalités de paiement. \n \n \nTARIF : 250€ pour l’animation\, payable en 1 ou 2 fois. \nHébergement au Domaine du Taillé en sus (vous pouvez arriver le vendredi matin ou la veille selon votre préférence\, à voir avec le Domaine directement). \nAcompte et/ou solde animation : https://my.weezevent.com/retraite-chamanique-dequinoxe-de-printemps-domaine-du-taille-1 \nSeul le paiement par weezevent vous garantit votre place. \nAprès réception du mail de confirmation\, pensez bien à réserver votre hébergement au Domaine du Taillé\, plus vous réservez tôt plus vous avez le choix du type de logement : https://www.domainedutaille.com/formations-et-stages/recherche/ \nLes hébergements seront disponibles fin 2025. \nJe vous enverrai les infos pratiques et la charte du stage à réception de l’acompte.  \n  \n  \nAU PROGRAMME DE CETTE RETRAITE : \n– voyages chamaniques au tambour \n– cérémonies avec les éléments\, en lien avec l’équinoxe \n– cercles de parole \n– rituels de libération \n– danses et chants chamaniques \n– temps en nature \n– cadre bienveillant et sécurisant \n  \n  \nQUI SUIS-JE ? \nAmélie DODINET : Originaire de Haute-Savoie\, je suis thérapeute depuis 2012.  \nJ’ai suivi les enseignements de la FSS (Foundation for Shamanic Studies) avec Laurent Huguelit et Angéline Bichon\, en chamanisme. Après 20 ans sur Lyon\, je suis désormais installée dans la belle nature des Pyrénées Orientales\, sur les pentes du Canigou\, montagne sacrée des catalans. \nJ’anime et co-anime des retraites et des cercles sur Perpignan\, Lyon\, et dans d’autres villes (cercles de tambours\, ateliers chamaniques\, cérémonies du cacao\, cercles de chants sacrés…) ainsi que des séances individuelles dans mon cabinet ou à distance (soins chamaniques\, soins énergétiques\, lectures akashiques…). \nBiographie plus complète : https://amelie-dodinet.com/amelie-dodinet-therapeute/ \n 
URL:https://amelie-dodinet.com/events/mars-2026-retraite-chamanique-dequinoxe-de-printemps-domaine-du-taille/
LOCATION:Domaine du Taillé\, 1150 chemin du Taillé\, VESSEAUX\, 07200\, France
CATEGORIES:Cérémonie,chamanisme,Retraites nature,soins collectifs
ATTACH;FMTTYPE=image/jpeg:https://amelie-dodinet.com/wp-content/uploads/2025/10/Retraite-chamanique-dequinoxe-printemps-2026.jpg
ORGANIZER;CN="Am%C3%A9lie DODINET":MAILTO:amelie.dodinet@gmail.com
END:VEVENT
END:VCALENDAR