BEGIN:VCALENDAR
VERSION:2.0
PRODID:-//Amélie Dodinet - ECPv6.15.11//NONSGML v1.0//EN
CALSCALE:GREGORIAN
METHOD:PUBLISH
X-ORIGINAL-URL:https://amelie-dodinet.com
X-WR-CALDESC:Évènements pour Amélie Dodinet
REFRESH-INTERVAL;VALUE=DURATION:PT1H
X-Robots-Tag:noindex
X-PUBLISHED-TTL:PT1H
BEGIN:VTIMEZONE
TZID:Europe/Paris
BEGIN:DAYLIGHT
TZOFFSETFROM:+0100
TZOFFSETTO:+0200
TZNAME:CEST
DTSTART:20230326T010000
END:DAYLIGHT
BEGIN:STANDARD
TZOFFSETFROM:+0200
TZOFFSETTO:+0100
TZNAME:CET
DTSTART:20231029T010000
END:STANDARD
BEGIN:DAYLIGHT
TZOFFSETFROM:+0100
TZOFFSETTO:+0200
TZNAME:CEST
DTSTART:20240331T010000
END:DAYLIGHT
BEGIN:STANDARD
TZOFFSETFROM:+0200
TZOFFSETTO:+0100
TZNAME:CET
DTSTART:20241027T010000
END:STANDARD
BEGIN:DAYLIGHT
TZOFFSETFROM:+0100
TZOFFSETTO:+0200
TZNAME:CEST
DTSTART:20250330T010000
END:DAYLIGHT
BEGIN:STANDARD
TZOFFSETFROM:+0200
TZOFFSETTO:+0100
TZNAME:CET
DTSTART:20251026T010000
END:STANDARD
END:VTIMEZONE
BEGIN:VEVENT
DTSTART;TZID=Europe/Paris:20240804T200000
DTEND;TZID=Europe/Paris:20240809T160000
DTSTAMP:20260425T135807
CREATED:20231204T213013Z
LAST-MODIFIED:20231204T213013Z
UID:3290-1722801600-1723219200@amelie-dodinet.com
SUMMARY:Retraite chamanique d'été - Domaine du Taillé (07)
DESCRIPTION:  \n \nRETRAITE CHAMANIQUE D’ETE – Domaine du Taillé \nRetraite sur 5 jours animée par Amélie Dodinet\, praticienne chamanique (formée notamment  FSS avec Laurent Huguelit) \nLa retraite est ouverte à tous les niveaux\, pas de pré-requis nécessaire\, simplement de remplir le formulaire indiqué plus bas. \nCette semaine chamanique est une retraite de transformation. \nQue vous soyez un habitué des voyages chamaniques ou que vous soyez novices\, vous êtes les bienvenus\, et vous embarquerez pour une semaine entière\, en petit groupe (entre 8 et 16 personnes max). \nVous entrerez en contact avec vos alliés des mondes d’en bas (animaux de pouvoir) et d’en haut (guides spirituels\, ancêtres) guidés par ma voix et le son du tambour\, vous pourrez travailler sur une guérison\, un lâcher-prise\, ou une manifestation. \nLa retraite sera ponctuée de voyages chamaniques\, de cercles de paroles\, de danses et/ou de chants\, de rituels de libération et de cérémonies\, et de temps pour soi. Des surprises sont également à prévoir ! \nNous serons en formule résidentielle dans un beau Domaine dont les esprits de la nature permettent ce travail avec bienveillance\, dans un espace privatisé du domaine pour le groupe\, dans une clairière avec une piscine privée pour les temps de repos. \nN’hésitez pas à me contacter par mail ou téléphone avant de vous inscrire si vous avez des questions. \nLIEU : Domaine du Taillé – 1150 chemin du Taillé\, 07200 Vesseaux – https://www.domainedutaille.com/ \nDATES : du dimanche 4 août 2024 au vendredi 9 août 2024 \nHORAIRES : le stage débutera le dimanche 4 août à 20H (accueil dès 17h) et se terminera le vendredi 9 août aux alentours de 16H \nINSCRIPTION : pour vous inscrire\, il faut remplir le questionnaire suivant : \nhttps://docs.google.com/forms/d/e/1FAIpQLSfI9vbXNqQkPDR_mJzsjE2WSy8WuJBOxP4yd_BvShHIA5bEUg/viewform?usp=pp_url \nAprès validation de votre participation\, vous recevrez les modalités de paiement : https://my.weezevent.com/retraite-chamanique-dete-domaine-du-taille \nTARIF : 650€ pour l’animation et la participation à la location du lieu\, payable en 1 ou plusieurs fois. \nLe tarif baisse à 580€ par personne si vous vous inscrivez à deux ou plus. \nHébergement au Domaine du Taillé en sus (vous pouvez arriver le dimanche et repartir le vendredi soir ou le samedi matin selon votre préférence\, à voir avec le Domaine directement). \nTarif hébergement en pension complète :  \n82€/jour/personne en juillet/aout (occupation double) \nAcompte et/ou solde animation  : https://my.weezevent.com/retraite-chamanique-dete-domaine-du-taille \nSeul le paiement par weezevent vous garantit votre place. \nAprès réception du mail de confirmation\, pensez bien à réserver votre hébergement au Domaine du Taillé en tapant mon nom Amélie Dodinet: https://www.domainedutaille.com/formations-et-stages/recherche/ \nJe vous enverrai les infos pratiques et la charte du stage à réception de l’acompte. \nLE LIEU \nImplanté au nord du Domaine\, l’espace privatisé pour le groupe nous garantira une intimité complète ! Situé dans une clairière bordée de chênes\, cet  espace de pratique offrira un cadre  isolé et ressourçant. Ici les rochers\, les sous-bois et les oiseaux serons  nos plus proches voisins. \nL’hébergement du groupe se fera en tentes doubles équipées de 2 petits lits (80cm) pouvant se  rapprocher pour en former un grand (160cm). \nCes tentes en coton\, robustes et sans pied central offrent un bel espace de couchage de 14m2. Les fenêtres et portes-fenêtres\, équipées de moustiquaires\, donnent sur la nature environnante. \nLe groupe profitera sur place d’une piscine privée de 4x8m qui pourra être utilisée pendant les temps de pause\, ce qui sera appréciable en août ! \nQUI SUIS-JE ? \nAmélie DODINET : Originaire de Haute-Savoie\, je suis thérapeute depuis 2012. \nJ’ai suivi les enseignements de la FSS (Foundation for Shamanic Studies) avec Laurent Huguelit et Angéline Bichon\, en chamanisme. Après 20 ans sur Lyon\, je suis désormais installée dans la belle nature des Pyrénées Orientales\, sur les pentes du Canigou\, montagne sacrée des catalans. \nJ’anime et co-anime des retraites et des cercles sur Perpignan\, Lyon\, et dans d’autres villes (cercles de tambours\, ateliers chamaniques\, cérémonies du cacao\, cercles de chants sacrés…) ainsi que des séances individuelles dans mon cabinet ou à distance (soins chamaniques\, soins énergétiques\, lectures akashiques…). \nBiographie plus complète : https://amelie-dodinet.com/amelie-dodinet-therapeute/ \nAmélie DODINET \namelie.dodinet@gmail.com \nhttps://amelie-dodinet.com \nhttps://lodysseeinterieure.com \n  \n+33 6 18 54 35 07
URL:https://amelie-dodinet.com/events/retraite-chamanique-dete-domaine-du-taille-07/
LOCATION:Domaine du Taillé\, 1150 chemin du Taillé\, VESSEAUX\, 07200\, France
CATEGORIES:Atelier,Cérémonie,chamanisme,Retraites nature
ATTACH;FMTTYPE=image/png:https://amelie-dodinet.com/wp-content/uploads/2023/12/camalea.png
ORGANIZER;CN="Am%C3%A9lie DODINET":MAILTO:amelie.dodinet@gmail.com
END:VEVENT
END:VCALENDAR